BEGIN:VCALENDAR
VERSION:2.0
PRODID:-//Joburg ETC - ECPv4.4.4//NONSGML v1.0//EN
CALSCALE:GREGORIAN
METHOD:PUBLISH
X-WR-CALNAME:Joburg ETC
X-ORIGINAL-URL:https://www.joburgetc.com
X-WR-CALDESC:Events for Joburg ETC
BEGIN:VEVENT
DTSTART;TZID=UTC+2:20260424T110000
DTEND;TZID=UTC+2:20260426T150000
DTSTAMP:20260421T163246
CREATED:20260414T162443Z
LAST-MODIFIED:20260414T162444Z
UID:77983-1777028400-1777215600@www.joburgetc.com
SUMMARY:Alice in Wonderland: A Unique Dance Journey
DESCRIPTION:Alice in Wonderland\nStep into a reimagined Wonderland where movement replaces words and imagination leads the way. OZI Youth Dance Company presents Alice in Wonderland\, a bold contemporary dance experience for all ages.\nThis is not a traditional retelling\, but a powerful physical journey through transformation and discovery. Alice’s story unfolds through expressive choreography\, rhythm\, and dynamic ensemble storytelling.\nYoung dancers bring fresh energy to a world shaped by curiosity\, change\, and imagination. Four distinctive choreographic voices shape the work into a rich and layered stage experience. Each creative perspective blends into one fluid performance that feels unpredictable and alive.\nFamiliar characters appear through movement\, from the elusive Cheshire Cat to the commanding Queen of Hearts. A guiding narrator offers gentle structure while the choreography invites open interpretation.\n\nEvent Details:\n\n \tVenue: Main Theatre\, Roodepoort Theatre\n \tDate: 24 April 2026\n \tTime: 11:00\n \tTicket Price: R200\n \tPresented by: OZI Youth Dance Company\n\nAt its core\, the production explores identity\, courage\, and the beauty of uncertainty.\nJoin us for an unforgettable performance that brings Wonderland to life through the power of dance.\nTickets can be purchased here.\n\nVisit our What's On page for more upcoming events in Joburg.\n
URL:https://www.joburgetc.com/whats-on-single/alice-in-wonderland-a-unique-dance-journey/
ATTACH;FMTTYPE=image/jpeg:https://www.joburgetc.com/wp-content/uploads/2026/04/JOZI-YOUTH-DANCE-COMPANY-present-ALICE-IN-WONDERLAND.jpg
END:VEVENT
END:VCALENDAR