BEGIN:VCALENDAR
VERSION:2.0
PRODID:-//Joburg ETC - ECPv4.4.4//NONSGML v1.0//EN
CALSCALE:GREGORIAN
METHOD:PUBLISH
X-WR-CALNAME:Joburg ETC
X-ORIGINAL-URL:https://www.joburgetc.com
X-WR-CALDESC:Events for Joburg ETC
BEGIN:VEVENT
DTSTART;TZID=UTC+2:20260425T110000
DTEND;TZID=UTC+2:20260425T110000
DTSTAMP:20260421T174450
CREATED:20260415T061409Z
LAST-MODIFIED:20260415T061653Z
UID:77993-1777114800-1777114800@www.joburgetc.com
SUMMARY:A Soulful Garden Experience - Nude Vibes & Good Times
DESCRIPTION:Soulful Garden Experience – Shades of Nude Vibes\nStep into a soulful outdoor celebration inspired by freedom\, rhythm\, and connection. Soulful Garden Experience blends music\, style\, and relaxed energy in a beautiful natural setting.\n\nCome celebrate Freedom Day with good vibes and unforgettable moments.\nEvent Details\n\n\n \tVenue: Monchique Guest House\n \tDate: 25 April 2026\n \tTime: 11:00 AM\n \tTicket Price: R150 – R400\n\nExpect smooth soulful sounds and a vibrant outdoor atmosphere. At this event the dress code is shades of nudes so come dripped in nude tones that match the theme.\n\nMake yourself at home by bringing your own camp chair for comfort and relaxation.\n\nSide Note: VIP access does not allow cooler boxes.This is a fully cashless experience for easy and secure transactions.\nThis soulful garden escape is perfect for music lovers\, social explorers\, and style icons who know how to throw together a good nude fit. And for those who enjoy chilled\ndaytime events with a lively crowd this is the place for you to be.\nSo come and feel the rhythm\, embrace the aesthetic\, and unwind in nature. Enjoy curated music\, scenic views\, and a stylish crowd.\nThis is where soulful energy meets garden luxury.\nTickets can be purchased here!\n\n Visit our What's On page for more upcoming events in Joburg.
URL:https://www.joburgetc.com/whats-on-single/soulful-garden-experience-nude-vibes-good-times/
LOCATION:Portion 3\, Larsens Rd\, Muldersdrift\, Johannesburg\, 1747\, Johannesburg\, Guateng\, 1747\, South Africa
ATTACH;FMTTYPE=image/jpeg:https://www.joburgetc.com/wp-content/uploads/2026/04/SOULFUL-GARDEN-EXPERIENCE-Shades-of-Nude.jpg
END:VEVENT
END:VCALENDAR