BEGIN:VCALENDAR
VERSION:2.0
PRODID:-//Joburg ETC - ECPv4.4.4//NONSGML v1.0//EN
CALSCALE:GREGORIAN
METHOD:PUBLISH
X-WR-CALNAME:Joburg ETC
X-ORIGINAL-URL:https://www.joburgetc.com
X-WR-CALDESC:Events for Joburg ETC
BEGIN:VEVENT
DTSTART;TZID=UTC+2:20260428T100000
DTEND;TZID=UTC+2:20260428T100000
DTSTAMP:20260421T213921
CREATED:20260417T055552Z
LAST-MODIFIED:20260417T055552Z
UID:78212-1777370400-1777370400@www.joburgetc.com
SUMMARY:Star-Crossed Sparks - Romeo & Juliet Live!
DESCRIPTION:Romeo & Juliet Live\nStep into a world of passion\, rivalry\, and fate. This fresh staging of Romeo & Juliet brings Shakespeare’s classic to life with emotional intensity and striking performances.Two young lovers defy their feuding families in pursuit of a love that refuses to fade. Their secret romance unfolds against a backdrop of conflict\, danger\, and heartbreaking choices.\nThrough its emotional depth\, the story still resonates across generations today.\n\nEvent Details:\n\n \tVenue: The Lesedi at Joburg Theatre\n \tDate: From 28 April 2026\n \tTime: 10:00\n \tTicket Price: R100 – R120\n\nThrough every scene\, this production captures the tenderness and tension of forbidden love. You’ll witness dramatic twists\, emotional highs\, and a deeply moving finale.With this magical performance classic storytelling meets a vivid stage experience.\nFor anyone who loves theatre\, classic drama\,  romance\, tragedy\, and timeless storytelling this is the play for you!\nExperience the intensity of young love under pressure. This is where the beauty of Shakespeare’s language in a live setting comes to life.\nCome and witness this unforgettable story brought to life like never before.\nTickets can be purchased here!\n\n Visit our What's On page for more upcoming events in Joburg.
URL:https://www.joburgetc.com/whats-on-single/star-crossed-sparks-romeo-juliet-live/
LOCATION:The Lesedi at Joburg Theatre\, Johannesburg\, no state/province\, no zip\, no country
ATTACH;FMTTYPE=image/jpeg:https://www.joburgetc.com/wp-content/uploads/2026/04/ROMEO-JULIET.jpg
END:VEVENT
END:VCALENDAR