BEGIN:VCALENDAR
VERSION:2.0
PRODID:-//Joburg ETC - ECPv4.4.4//NONSGML v1.0//EN
CALSCALE:GREGORIAN
METHOD:PUBLISH
X-WR-CALNAME:Joburg ETC
X-ORIGINAL-URL:https://www.joburgetc.com
X-WR-CALDESC:Events for Joburg ETC
BEGIN:VEVENT
DTSTART;TZID=UTC+2:20260502T120000
DTEND;TZID=UTC+2:20260502T120000
DTSTAMP:20260421T202031
CREATED:20260421T093739Z
LAST-MODIFIED:20260421T093740Z
UID:78538-1777723200-1777723200@www.joburgetc.com
SUMMARY:Summer Flavor – Heat\, Beats & Sweet Vibes
DESCRIPTION:Summer Flavor\nStep into a bold celebration where rhythm meets sunshine. Summer Flavor brings energy\, style\, and unforgettable moments together.\nFeel the pulse of music\, laughter\, and vibrant connection all around you. This is more than a party. It’s a full sensory escape.\nArrive ready to shine and leave with stories worth telling.\n\nEvent Details:\n\n \tVenue: 537 Moseleke\, Katlehong\, 1431\n \tDate: 02 May 2026\n \tTime: 12:00\n \tTicket Price: From R30 to R50\n\nCome expecting high-energy music that keeps your feet moving. Soak in an atmosphere designed to excite every sense. And capture moments that feel as good as they look.\nFeel the rhythm from the moment you arrive. Dance\, mingle\, and create memories that last beyond the day.\nThis is where good energy meets great company.\nTickets can be purchased here!\n\n Visit our What's On page for more upcoming events in Joburg.
URL:https://www.joburgetc.com/whats-on-single/summer-flavor-heat-beats-sweet-vibes/
LOCATION:537 Moseleke\, Katlehong\, 1431 
ATTACH;FMTTYPE=image/jpeg:https://www.joburgetc.com/wp-content/uploads/2026/04/Summer-Flavor.jpg
END:VEVENT
END:VCALENDAR